{"text_format":"1","workbook":"xlsx","n_sheets":10,"sheets":["Таблица 1 (1)","Таблица 2 (1)","Таблица 3 (1)","Таблица 1 (2)","Таблица 2 (2)","Таблица 3 (2)","Таблица 1 (3)","Таблица 2 (3)","Таблица 3 (3)","СВОД"],"not_rendered":{"charts":0,"images":0,"macros":0,"external_links":0,"defined_names":7,"comments":1,"pivot_tables":0},"unopened":[],"bounds":{"document_bytes":16777216,"sheet_cells":100000,"rows_first":2000,"rows_last":500,"rows_between":2000,"halvings":0,"cell_chars":16384,"cell_head_chars":4096},"cells_cut":0,"cells_raw":0,"read":"whole","date_system":"1900"}

{"sheet":"Таблица 1 (1)","index":0,"n_rows":16,"n_cols":16,"rows_kept":16,"cut":false,"hidden":true,"merged":[[13,1,13,15],[11,1,11,15],[3,0,3,15],[5,0,8,0],[5,1,8,1],[5,3,8,3],[0,12,0,15],[1,12,1,15],[5,2,8,2],[10,1,10,15],[5,4,5,14],[6,4,6,14],[7,5,7,6],[7,7,7,8],[7,9,7,10],[7,11,7,12],[7,13,7,14],[5,15,8,15]]}
[null,null,null,null,null,null,null,null,null,null,null,null,"Приложение №1  к постановлению администрации  ЗАТО Александровск    от______№________"]
[null,null,null,null,null,null,null,null,null,null,null,null,"Таблица № 1 (1)"]
[]
[" 2. Основные цели и задачи Подпрограммы 1 , целевые показатели (индикаторы) реализации Подпрограммы 1"]
[]
["№ п/п","Цель, задачи и показатели (индикаторы)","Ед. изм.","Направленность*","Значение показателя (индикатора)",null,null,null,null,null,null,null,null,null,null,"Соисполнитель, ответственный за выполнение показателя"]
[null,null,null,null,"Годы реализации"]
[null,null,null,null,2017,2018,null,2019,null,2020,null,2021,null,2022]
[null,null,null,null,"Факт","План ","Факт","План ","Факт","План ","Факт","План ","Факт","План ","Факт"]
[1,2,3,4,5,6,7,8,9,10,11,12,13,14,15,16]
[null,"Цель Подпрограммы 1: Создание комфортных, безопасных и благоприятных условий проживания граждан в многоквартирных домах на территории ЗАТО Александровск"]
[1,"Задача  1.  Выполнение обязанностей собственника по оплате взносов на проведение капитального ремонта МКД в части жилых и нежилых муниципальных площадей"]
["1.1.","Процент оплаты взносов в части жилых и нежилых помещений","%","ö",100,100,null,100,null,100,null,100,null,100,null,"МКУ \"ОКС\""]
[2,"Задача 3. Организация проведения капитального ремонта многоквартирных домов"]
["2.1.","Количество отремонтированных домов,включенных в краткосрочный план капитального ремонта","ед.","ö",39,23,null,23,null,25,null,25,null,25,null,"МКУ \"ОКС\""]
["2.2.","Доля объектов, в которых проведен капитальный ремонт общего имущества многоквартирных домов, от запланированного количества","%","ö",100,100,null,100,null,100,null,100,null,100,null,"МКУ \"ОКС\""]

{"sheet":"Таблица 2 (1)","index":1,"n_rows":22,"n_cols":7,"rows_kept":22,"cut":false,"hidden":true,"merged":[[0,4,0,6],[9,0,9,6],[14,0,14,6],[16,0,16,6],[3,0,3,6],[5,0,6,0],[5,1,6,1],[5,2,5,6],[1,5,1,6]]}
[null,null,null,null,"Приложение №2  к постановлению администрации  ЗАТО Александровск    от______№________"]
[null,null,null,null,null,"Таблица № 2 (1)"]
[]
["4. Обоснование ресурсного обеспечения Подпрограммы 1"]
[]
["Источник финансирования","Всего, руб.коп.","в том числе по годам реализации, руб.коп."]
[null,null,"2018 год","2019 год","2020 год","2021 год","2022 год"]
[1,2,3,4,5,6,7]
["Всего по Подпрограмме 1",{"$f":"B11+B12+B13+B14","v":148760419.88000003},41209442.909999996,37051510.340000004,35949902.609999999,17274782.010000002,17274782.010000002]
["в том числе за счет средств:"]
["местного бюджета",{"$f":"C11+D11+E11+F11+G11","v":92157477.030000016},{"$f":"C18","v":21956741.260000002},18376389.740000002,17274782.010000002,17274782.010000002,17274782.010000002]
["средств областного бюджета",{"$f":"C12+D12+E12+F12+G12","v":56602942.850000001},19252701.649999999,18675120.600000001,18675120.600000001,0,0]
["средств федерального бюджета",{"$f":"C13+D13+E13+F13+G13","v":0},0,0,0,0,0]
["внебюджетных средств",{"$f":"C14+D14+E14+F14+G14","v":0},0,0,0,0,0]
["в том числе по Заказчикам:"]
["администрация ЗАТО Александровск",{"$f":"B18+B19+B20+B21","v":148760419.88000003},41209442.909999996,37051510.340000004,35949902.609999999,17274782.010000002,17274782.010000002]
["в том числе за счет средств:"]
["местного бюджета",{"$f":"C18+D18+E18+F18+G18","v":92157477.030000016},{"$f":"'Таблица 3 (1)'!F40","v":21956741.260000002},{"$f":"'Таблица 3 (1)'!G40","v":18376389.740000002},{"$f":"'Таблица 3 (1)'!H40","v":17274782.010000002},{"$f":"'Таблица 3 (1)'!I40","v":17274782.010000002},{"$f":"'Таблица 3 (1)'!J40","v":17274782.010000002}]
["средств областного бюджета",{"$f":"C19+D19+E19+F19+G19","v":56602942.850000001},{"$f":"'Таблица 3 (1)'!F41","v":19252701.649999999},{"$f":"'Таблица 3 (1)'!G41","v":18675120.600000001},{"$f":"'Таблица 3 (1)'!H41","v":18675120.600000001},{"$f":"'Таблица 3 (1)'!I41","v":0},{"$f":"'Таблица 3 (1)'!J41","v":0}]
["средств федерального бюджета",{"$f":"C20+D20+E20+F20+G20","v":0},{"$f":"'Таблица 3 (1)'!F42","v":0},{"$f":"'Таблица 3 (1)'!G42","v":0},{"$f":"'Таблица 3 (1)'!H42","v":0},{"$f":"'Таблица 3 (1)'!I42","v":0},{"$f":"'Таблица 3 (1)'!J42","v":0}]
["внебюджетных средств",{"$f":"C21+D21+E21+F21+G21","v":0},{"$f":"'Таблица 3 (1)'!F43","v":0},{"$f":"'Таблица 3 (1)'!G43","v":0},{"$f":"'Таблица 3 (1)'!H43","v":0},{"$f":"'Таблица 3 (1)'!I43","v":0},{"$f":"'Таблица 3 (1)'!J43","v":0}]
["в том числе инвестиции в основной капитал",{"$f":"C22+D22+E22+F22+G22","v":0},0,0,0,0,0]

{"sheet":"Таблица 3 (1)","index":2,"n_rows":43,"n_cols":17,"rows_kept":43,"cut":false,"hidden":true,"merged":[[37,1,42,1],[37,2,42,2],[37,10,42,10],[37,11,42,11],[38,3,38,9],[31,11,36,11],[14,15,18,15],[14,16,18,16],[26,14,30,14],[14,14,18,14],[19,11,24,11],[26,0,30,0],[19,15,24,15],[25,1,25,16],[26,11,30,11],[26,12,30,12],[19,12,24,12],[19,13,24,13],[19,14,24,14],[26,13,30,13],[19,16,24,16],[26,1,30,1],[26,2,30,2],[26,10,30,10],[26,15,30,15],[26,16,30,16],[26,3,30,9],[37,12,42,12],[37,14,42,14],[14,0,18,0],[14,1,18,1],[14,2,18,2],[14,10,18,10],[14,11,18,11],[14,12,18,12],[14,13,18,13],[37,0,42,0],[31,0,36,0],[31,1,36,1],[31,2,36,2],[31,10,36,10],[31,12,36,12],[32,3,32,9],[37,16,42,16],[31,16,36,16],[37,13,42,13],[37,15,42,15],[31,13,36,13],[31,14,36,14],[31,15,36,15],[19,0,24,0],[19,1,24,1],[19,2,24,2],[19,10,24,10],[20,3,20,9],[7,1,7,16],[8,1,8,16],[9,13,13,13],[9,14,13,14],[9,15,13,15],[9,16,13,16],[4,16,5,16],[1,14,1,16],[10,17,11,17],[9,0,13,0],[9,1,13,1],[9,2,13,2],[9,10,13,10],[9,11,13,11],[9,12,13,12],[3,0,3,16],[4,0,5,0],[4,1,5,1],[4,2,5,2],[4,3,5,3],[4,4,4,9],[4,10,4,15]]}
[]
[null,null,null,null,null,null,null,null,null,null,null,null,null,null,"Приложение №3  к постановлению администрации  ЗАТО Александровск    от______№________"]
[null,null,null,null,null,null,null,null,null,null,null,null,null,null,null,null,"Таблица № 3 (1)"]
["3. Перечень основных мероприятий Подпрограммы 1 "]
["№  п/п","Цель, задачи, основные мероприятия","Срок выполнения (квартал, год)","Источник финансирования","Объемы финансирования, руб.коп.",null,null,null,null,null,"Показатели результативности выполнения программных мероприятий",null,null,null,null,null,"Исполнитель, перечень организаций, участвующих в реализации основных мероприятий"]
[null,null,null,null,"Всего","2018 год","2019 год","2020 год","2021 год","2022 год","Наименование, ед.измерения","2018 год","2019 год","2020 год","2021 год","2022 год"]
[1,2,3,4,5,6,7,8,9,10,11,12,13,14,15,16,17]
[null,"Цель Подпрограммы 1: Создание комфортных, безопасных и благоприятных условий проживания граждан в многоквартирных домах на территории ЗАТО Александровск"]
["1.","Задача  1.  Выполнение обязанностей собственника по оплате взносов на проведение капитального ремонта МКД в части жилых и нежилых муниципальных площадей"]
["1.1.","Взносы на обеспечение реализации региональной программы капитального ремонта общего имущества в многоквартирных домах в части жилых муниципальных помещений","2018-2022 годы","Всего",{"$f":"E11+E12+E13+E14","v":136412636.86000001},38558281.769999996,34532907.25,33557229.68,14882109.08,14882109.08,"Процент оплаты взносов в части жилых помещений, %",100,100,100,100,100,"МКУ \"ОКС\""]
[null,null,null,"МБ",{"$f":"F11+G11+H11+I11+J11","v":79809694.010000005},19305580.120000001,15857786.65,14882109.08,14882109.08,14882109.08]
[null,null,null,"ОБ",{"$f":"F12+G12+H12+I12+J12","v":56602942.850000001},19252701.649999999,18675120.600000001,18675120.600000001,0,0]
[null,null,null,"ФБ",{"$f":"F13+G13+H13+I13+J13","v":0},0,0,0,0,0]
[null,null,null,"ВБС",{"$f":"F14+G14+H14+I14+J14","v":0},0,0,0,0,0]
["1.2.","Взносы на обеспечение реализации региональной программы капитального ремонта общего имущества в многоквартирных домах в части нежилых муниципальных помещений","2018-2022 годы","Всего",{"$f":"E16+E17+E18+E19","v":12347783.02},2651161.14,2518603.09,2392672.9300000002,2392672.9300000002,2392672.9300000002,"Процент оплаты взносов в части нежилых помещений, %",100,100,100,100,100,"МКУ \"ОКС\""]
[null,null,null,"МБ",{"$f":"F16+G16+H16+I16+J16","v":12347783.02},2651161.14,2518603.09,2392672.9300000002,2392672.9300000002,2392672.9300000002]
[null,null,null,"ОБ",{"$f":"F17+G17+H17+I17+J17","v":0},0,0,0,0,0]
[null,null,null,"ФБ",{"$f":"F18+G18+H18+I18+J18","v":0},0,0,0,0,0]
[null,null,null,"ВБС",{"$f":"F19+G19+H19+I19+J19","v":0},0,0,0,0,0]
[null,"Итого по задаче 1:",null,"Всего",{"$f":"E22+E23+E24+E25","v":148760419.88000003},41209442.909999996,37051510.340000004,35949902.609999999,17274782.010000002,17274782.010000002]
[null,null,null,"в том числе:"]
[null,null,null,"МБ",{"$f":"F22+G22+H22+I22+J22","v":92157477.030000016},{"$f":"F16+F11","v":21956741.260000002},{"$f":"G16+G11","v":18376389.740000002},{"$f":"H16+H11","v":17274782.010000002},{"$f":"I16+I11","v":17274782.010000002},{"$f":"J16+J11","v":17274782.010000002}]
[null,null,null,"ОБ",{"$f":"F23+G23+H23+I23+J23","v":56602942.850000001},{"$f":"F17+F12","v":19252701.649999999},18675120.600000001,18675120.600000001,0,0]
[null,null,null,"ФБ",{"$f":"F24+G24+H24+I24+J24","v":0},0,0,0,0,0]
[null,null,null,"ВБС",{"$f":"F25+G25+H25+I25+J25","v":0},0,0,0,0,0]
["2.","Задача 2. Организация проведения капитального ремонта многоквартирных домов"]
["2.1.","Сбор информации, обработка данных и подготовка документов для утверждения краткосрочных планов КР МКД","2018-2022 годы","Финансирования не требуется",null,null,null,null,null,null,"Доля объектов, в которых проведен капитальный ремонт общего имущества многоквартирных домов, от запланированного количества,      %",100,100,100,100,100,"МКУ \"ОКС\""]
[]
[]
[]
[]
[null,"Итого по задаче 2:",null,"Всего",{"$f":"E34+E35+E36+E37","v":0},0,0,0,0,0]
[null,null,null,"в том числе:"]
[null,null,null,"МБ",{"$f":"F34+G34+H34+I34+J34","v":0},{"$f":"F28","v":0},{"$f":"G28","v":0},{"$f":"H28","v":0},{"$f":"I28","v":0},{"$f":"J28","v":0}]
[null,null,null,"ОБ",{"$f":"F35+G35+H35+I35+J35","v":0},{"$f":"F29","v":0},0,0,0,0]
[null,null,null,"ФБ",{"$f":"F36+G36+H36+I36+J36","v":0},0,0,0,0,0]
[null,null,null,"ВБС",{"$f":"F37+G37+H37+I37+J37","v":0},0,0,0,0,0]
[null,"ВСЕГО по Подпрограмме 1:",null,"Всего",{"$f":"E40+E41+E42+E43","v":148760419.88000003},{"$f":"F40+F41+F42+F43","v":41209442.909999996},37051510.340000004,35949902.609999999,17274782.010000002,17274782.010000002]
[null,null,null,"в том числе:"]
[null,null,null,"МБ",{"$f":"F40+G40+H40+I40+J40","v":92157477.030000016},{"$f":"F22+F34","v":21956741.260000002},18376389.740000002,17274782.010000002,17274782.010000002,17274782.010000002]
[null,null,null,"ОБ",{"$f":"F41+G41+H41+I41+J41","v":56602942.850000001},{"$f":"F23+F35","v":19252701.649999999},18675120.600000001,18675120.600000001,0,0]
[null,null,null,"ФБ",{"$f":"F42+G42+H42+I42+J42","v":0},0,0,0,0,0]
[null,null,null,"ВБС",{"$f":"F43+G43+H43+I43+J43","v":0},0,0,0,0,0]

{"sheet":"Таблица 1 (2)","index":3,"n_rows":21,"n_cols":16,"rows_kept":21,"cut":false,"hidden":true,"merged":[[14,1,14,15],[11,1,11,15],[3,0,3,15],[5,0,8,0],[5,1,8,1],[5,2,8,2],[5,3,8,3],[5,4,5,14],[10,1,10,15],[0,12,0,15],[1,14,1,15],[5,15,8,15],[6,4,6,14],[7,5,7,6],[7,7,7,8],[7,9,7,10],[7,11,7,12],[7,13,7,14]]}
[null,null,null,null,null,null,null,null,null,null,null,null,"Приложение №4  к постановлению администрации  ЗАТО Александровск    от______№________"]
[null,null,null,null,null,null,null,null,null,null,null,null,null,null,"Таблица № 1 (2)"]
[]
["2. Основные цели и задачи Подпрограммы 2, целевые показатели (индикаторы) реализации Подпрограммы 2"]
[]
["№ п/п","Цель, задачи и показатели (индикаторы)","Ед. изм.","Направленность*","Значение показателя (индикатора)",null,null,null,null,null,null,null,null,null,null,"Соисполнитель, ответственный за выполнение показателя"]
[null,null,null,null,"Годы реализации"]
[null,null,null,null,2017,2018,null,2019,null,2020,null,2021,null,2022]
[null,null,null,null,"Факт","План ","Факт","План ","Факт","План ","Факт","План ","Факт","План ","Факт"]
[1,2,3,4,5,6,7,8,9,10,11,12,13,14,15,16]
[null,"Цель Подпрограммы 2: Повышение удовлетворенности населения ЗАТО Александровск уровнем жилищно-коммунального обслуживания "]
["1.","Задача 1.  Эффективное использование объектов муниципальной собственности"]
["1.1.","Доля восстановленного жилищного фонда в общем объеме","%","ö",3,5,null,5,null,5,null,5,null,5,null,"МКУ \"ОКС\""]
["1.2.","Доля неиспользуемых помещений муниципальной собственности в общем объеме","%","ö",5,4,null,3,null,2,null,1,null,1]
["2.","Задача 2. Содержание и развитие систем коммунальной инфраструктуры"]
["2.1.","Доля отремонтированных сетей водоснабжения  от общего объема сетей водоснабжения","%","ö",0.67,0.67,null,0.67,null,{"$f":"164.89/24500*100","v":0.67302040816326525},null,{"$f":"164.89/24500*100","v":0.67302040816326525},null,{"$f":"164.89/24500*100","v":0.67302040816326525},null,"МКУ \"ОКС\""]
["2.2.","Доля отремонтированных канализационных сетей   от общего объема сетей канализации","%","ö",7.0000000000000007E-2,7.0000000000000007E-2,null,7.0000000000000007E-2,null,{"$f":"38.75/58820*100","v":6.5878952737164237E-2},null,{"$f":"38.75/58820*100","v":6.5878952737164237E-2},null,{"$f":"38.75/58820*100","v":6.5878952737164237E-2},null,"МКУ \"ОКС\""]
["2.3.","Доля отремонтированных сетей теплоснабжения  от общего объема сетей теплоснабжения","%","ö",3.5,5.8,null,0,null,{"$f":"240/34550*1000","v":6.9464544138929094},null,{"$f":"240/34550*1000","v":6.9464544138929094},null,{"$f":"240/34550*1000","v":6.9464544138929094},null,"МКУ \"ОКС\""]
["2.4.","Доля отремонтированных сетей электроснабжения  от общего объема сетей электроснабжени","%","ö",0.26,0.4,null,{"$f":"8280/126980*100","v":6.5207119231375028},null,{"$f":"1977.77/126980*100","v":1.5575444951960937},null,{"$f":"1977.77/126980*100","v":1.5575444951960937},null,{"$f":"1977.77/126980*100","v":1.5575444951960937},null,"МКУ \"ОКС\""]
["2.5.","Повышение удовлетворенности населения ЗАТО Александровск уровнем жилищно-коммунального обслуживания","да -1/нет-0","ö",1,1,null,1,null,1,null,1,null,1,null,"МКУ \"ОКС\""]
["2.6.","Уровень готовности коммунальных систем  жизнеобеспечения ЗАТО Александровск к  осенне-зимнему периоду ","%","ö",100,100,null,100,null,100,null,100,null,100,null,"МКУ \"ОКС\""]

{"sheet":"Таблица 2 (2)","index":4,"n_rows":22,"n_cols":7,"rows_kept":22,"cut":false,"hidden":false,"merged":[[0,4,0,6],[14,0,14,6],[16,0,16,6],[1,5,1,6],[3,0,3,8],[5,0,6,0],[5,1,6,1],[5,2,5,6],[9,0,9,6]]}
[null,null,null,null,"Приложение №1  к постановлению администрации  ЗАТО Александровск    от «21» июня 2018г. № 1126"]
[null,null,null,null,null,"Таблица № 2 (2)"]
[]
["4. Обоснование ресурсного обеспечения Подпрограммы 2 "]
[]
["Источник финансирования","Всего, руб.коп.","в том числе по годам реализации, руб.коп."]
[null,null,"2018 год","2019 год","2020 год","2021 год","2022 год"]
[1,2,3,4,5,6,7]
["Всего по Подпрограмме 2",{"$f":"B11+B12+B13+B14","v":245318428.58999997},56492519.269999996,47839017.460000008,45027473.599999994,47979709.129999995,47979709.129999995]
["в том числе за счет средств:"]
["местного бюджета",{"$f":"C11+D11+E11+F11+G11","v":245318428.58999997},{"$f":"'Таблица 3 (2)'!F100","v":56492519.269999996},{"$f":"'Таблица 3 (2)'!G100","v":47839017.460000008},{"$f":"'Таблица 3 (2)'!H100","v":45027473.599999994},{"$f":"'Таблица 3 (2)'!I100","v":47979709.129999995},{"$f":"'Таблица 3 (2)'!J100","v":47979709.129999995}]
["средств областного бюджета",{"$f":"C12+D12+E12+F12+G12","v":0},0,0,0,0,0]
["средств федерального бюджета",{"$f":"C13+D13+E13+F13+G13","v":0},{"$f":"C20","v":0},0,0,0,0]
["внебюджетных средств",{"$f":"C14+D14+E14+F14+G14","v":0},0,0,0,0,0]
["в том числе по Заказчикам:"]
[" администрация ЗАТО Александровск",{"$f":"B18+B19+B20+B21","v":245318428.58999997},56492519.269999996,47839017.460000008,45027473.599999994,47979709.129999995,47979709.129999995]
["в том числе за счет средств:"]
["местного бюджета",{"$f":"C18+D18+E18+F18+G18","v":245318428.58999997},{"$f":"'Таблица 3 (2)'!F100","v":56492519.269999996},{"$f":"'Таблица 3 (2)'!G100","v":47839017.460000008},{"$f":"'Таблица 3 (2)'!H100","v":45027473.599999994},{"$f":"'Таблица 3 (2)'!I100","v":47979709.129999995},{"$f":"'Таблица 3 (2)'!J100","v":47979709.129999995}]
["средств областного бюджета",{"$f":"C19+D19+E19+F19+G19","v":0},0,0,0,0,0]
["средств федерального бюджета",{"$f":"C20+D20+E20+F20+G20","v":0},{"$f":"'Таблица 3 (1)'!F42","v":0},{"$f":"'Таблица 3 (1)'!G42","v":0},{"$f":"'Таблица 3 (1)'!H42","v":0},{"$f":"'Таблица 3 (1)'!I42","v":0},{"$f":"'Таблица 3 (1)'!J42","v":0}]
["внебюджетных средств",{"$f":"C21+D21+E21+F21+G21","v":0},{"$f":"'Таблица 3 (1)'!F43","v":0},{"$f":"'Таблица 3 (1)'!G43","v":0},{"$f":"'Таблица 3 (1)'!H43","v":0},{"$f":"'Таблица 3 (1)'!I43","v":0},{"$f":"'Таблица 3 (1)'!J43","v":0}]
["в том числе инвестиции в основной капитал",{"$f":"C22+D22+E22+F22+G22","v":3000000},3000000,0,0,0,0]

{"sheet":"Таблица 3 (2)","index":5,"n_rows":107,"n_cols":18,"rows_kept":107,"cut":false,"hidden":false,"merged":[[1,11,1,16],[19,17,23,17],[49,16,54,16],[66,11,70,11],[66,16,70,16],[19,11,23,11],[19,12,23,12],[19,13,23,13],[19,14,23,14],[19,15,23,15],[19,16,23,16],[61,16,65,16],[44,13,48,13],[61,12,65,12],[9,13,13,13],[9,14,13,14],[9,12,13,12],[14,15,18,15],[39,15,43,15],[2,14,2,16],[7,1,7,16],[3,0,3,16],[4,0,5,0],[4,16,5,16],[97,0,102,0],[97,1,102,1],[97,2,102,2],[97,10,102,10],[98,3,98,9],[61,0,65,0],[61,1,65,1],[76,0,80,0],[76,1,80,1],[76,2,80,2],[91,0,96,0],[97,16,102,16],[49,1,54,1],[49,2,54,2],[92,3,92,9],[49,14,54,14],[49,15,54,15],[49,11,54,11],[49,10,54,10],[50,3,50,9],[61,10,65,10],[97,11,102,11],[97,12,102,12],[97,15,102,15],[91,11,96,11],[91,1,96,1],[97,13,102,13],[91,2,96,2],[91,10,96,10],[91,13,96,13],[49,12,54,12],[61,15,65,15],[61,13,65,13],[97,14,102,14],[49,13,54,13],[91,16,96,16],[71,16,75,16],[91,14,96,14],[71,14,75,14],[91,15,96,15],[44,15,48,15],[44,16,48,16],[66,15,70,15],[76,14,80,14],[81,16,85,16],[71,15,75,15],[86,16,90,16],[76,16,80,16],[76,15,80,15],[66,12,70,12],[81,10,85,10],[66,14,70,14],[71,2,75,2],[71,10,75,10],[86,0,90,0],[86,1,90,1],[86,2,90,2],[81,2,85,2],[86,10,90,10],[71,0,75,0],[71,1,75,1],[81,0,85,0],[81,1,85,1],[81,15,85,15],[71,13,75,13],[76,13,80,13],[86,15,90,15],[91,12,96,12],[14,14,18,14],[14,2,18,2],[14,10,18,10],[14,11,18,11],[14,12,18,12],[86,11,90,11],[86,12,90,12],[56,12,60,12],[14,13,18,13],[61,2,65,2],[66,13,70,13],[61,11,65,11],[39,12,43,12],[44,10,48,10],[86,13,90,13],[86,14,90,14],[81,12,85,12],[81,13,85,13],[44,3,48,9],[19,2,23,2],[19,10,23,10],[44,2,48,2],[14,0,18,0],[81,11,85,11],[71,12,75,12],[81,14,85,14],[34,2,38,2],[34,1,38,1],[34,0,38,0],[76,10,80,10],[76,11,80,11],[39,13,43,13],[71,11,75,11],[39,14,43,14],[66,0,70,0],[66,1,70,1],[56,0,60,0],[76,12,80,12],[19,0,23,0],[19,1,23,1],[44,0,48,0],[44,1,48,1],[49,0,54,0],[9,2,13,2],[66,2,70,2],[66,10,70,10],[61,14,65,14],[14,1,18,1],[56,17,60,17],[56,13,60,13],[56,14,60,14],[56,15,60,15],[56,16,60,16],[55,1,55,16],[56,1,60,1],[56,2,60,2],[56,10,60,10],[56,11,60,11],[29,1,33,1],[29,2,33,2],[24,1,28,1],[24,2,28,2],[9,0,13,0],[9,1,13,1],[9,10,13,10],[9,11,13,11],[4,3,5,3],[4,4,4,9],[4,10,4,15],[44,12,48,12],[9,15,13,15],[44,14,48,14],[8,1,8,16],[44,11,48,11],[9,16,13,16],[14,16,18,16],[39,16,43,16],[39,1,43,1],[39,2,43,2],[39,10,43,10],[39,11,43,11],[39,0,43,0],[4,1,5,1],[4,2,5,2],[24,0,28,0],[29,0,33,0]]}
[]
[null,null,null,null,null,null,null,null,null,null,null,"Приложение №2  к постановлению администрации  ЗАТО Александровск    от «21» июня 2018г. № 1126"]
[null,null,null,null,null,null,null,null,null,null,null,null,null,null,"Таблица № 3 (2)"]
["3. Перечень основных мероприятий Подпрограммы  2 "]
["№  п/п","Цель, задачи, основные мероприятия","Срок выполнения (квартал, год)","Источник финансирования","Объемы финансирования, руб.коп.",null,null,null,null,null,"Показатели результативности выполнения программных мероприятий",null,null,null,null,null,"Исполнитель, перечень организаций, участвующих в реализации основных мероприятий"]
[null,null,null,null,"Всего","2018 год","2019 год","2020 год","2021 год","2022 год","Наименование, ед.измерения","2018 год","2019 год","2020 год","2021 год","2022 год"]
[1,2,3,4,5,6,7,8,9,10,11,12,13,14,15,16,17]
[null,"Цель Подпрограммы 2: Повышение удовлетворенности населения ЗАТО Александровск уровнем жилищно-коммунального обслуживания "]
[1,"Задача 1. Эффективное использование объектов муниципальной собственности"]
["1.1.","Ремонт пустующих квартир","2018-2022 годы","Всего",{"$f":"E11+E12+E13+E14","v":27068804.219999999},7079608.2199999997,3773392.2699999996,3437110.89,6389346.4199999999,6389346.4199999999,"Количество отремонтированных квартир, ед.",25,25,30,30,50,"МКУ \"ОКС\""]
[null,null,null,"МБ",{"$f":"F11+G11+H11+I11+J11","v":27068804.219999999},7079608.2199999997,{"$f":"6725627.81-2952235.54","v":3773392.2699999996},{"$f":"6389346.42-2952235.53","v":3437110.89},6389346.4199999999,6389346.4199999999]
[null,null,null,"ОБ",{"$f":"F12+G12+H12+I12+J12","v":0},0,0,0,0,0]
[null,null,null,"ФБ",{"$f":"F13+G13+H13+I13+J13","v":0},0,0,0,0,0]
[null,null,null,"ВБС",{"$f":"F14+G14+H14+I14+J14","v":0},0,0,0,0,0]
["1.2.","Организация ограничения доступа в пустующий муниципальный жилой и нежилой фонд ЗАТО Александровск ","2018-2022 годы","Всего",{"$f":"E16+E17+E18+E19","v":1000000},200000,200000,200000,200000,200000,"Объем выполненных работ, %",100,100,100,100,100,"МКУ ОКС"]
[null,null,null,"МБ",{"$f":"F16+G16+H16+I16+J16","v":1000000},200000,200000,200000,200000,200000]
[null,null,null,"ОБ",{"$f":"F17+G17+H17+I17+J17","v":0},0,0,0,0,0]
[null,null,null,"ФБ",{"$f":"F18+G18+H18+I18+J18","v":0},0,0,0,0,0]
[null,null,null,"ВБС",{"$f":"F19+G19+H19+I19+J19","v":0},0,0,0,0,0]
["1.3.","Оплата за содержание и коммунальные услуги по жилому и нежилому муниципальному  фонду","2018-2022 годы","Всего",{"$f":"E21+E22+E23+E24","v":204230068.56999999},42477085.210000001,42233487.539999999,39839831.939999998,39839831.939999998,39839831.939999998,"Объем выполненных работ, %",100,100,100,100,100,"МКУ СМИ, МКУ ОКС","необходимо добавить цифру МКУ СМИ по пустующему"]
[null,null,null,"МБ",{"$f":"F21+G21+H21+I21+J21","v":204230068.56999999},{"$f":"42557586.69-80501.48","v":42477085.210000001},42233487.539999999,39839831.939999998,39839831.939999998,39839831.939999998]
[null,null,null,"ОБ",{"$f":"F22+G22+H22+I22+J22","v":0},{"$f":"F27+F32+F37","v":0},0,0,0,0]
[null,null,null,"ФБ",{"$f":"F23+G23+H23+I23+J23","v":0},0,0,0,0,0]
[null,null,null,"ВБС",{"$f":"F24+G24+H24+I24+J24","v":0},0,0,0,0,0]
[null," МКУ ОКС (теплоэнергия  зданий)",null,"Всего",{"$f":"E26+E27+E28+E29","v":16678188.02},3580931.41,3401884.84,3231790.59,3231790.59,3231790.59]
[null,null,null,"МБ",{"$f":"F26+G26+H26+I26+J26","v":16678188.02},3580931.41,3401884.84,3231790.59,3231790.59,3231790.59]
[null,null,null,"ОБ",{"$f":"F27+G27+H27+I27+J27","v":0},0,0,0,0,0]
[null,null,null,"ФБ",{"$f":"F28+G28+H28+I28+J28","v":0},0,0,0,0,0]
[null,null,null,"ВБС",{"$f":"F29+G29+H29+I29+J29","v":0},0,0,0,0,0]
[null," МКУ ОКС (содержание отдельностоящих зданий)",null,"Всего",{"$f":"E31+E32+E33+E34","v":5068337.9899999993},1088209.98,1033799.48,982109.51,982109.51,982109.51]
[null,null,null,"МБ",{"$f":"F31+G31+H31+I31+J31","v":5068337.9899999993},1088209.98,1033799.48,982109.51,982109.51,982109.51]
[null,null,null,"ОБ",{"$f":"F32+G32+H32+I32+J32","v":0},0,0,0,0,0]
[null,null,null,"ФБ",{"$f":"F33+G33+H33+I33+J33","v":0},0,0,0,0,0]
[null,null,null,"ВБС",{"$f":"F34+G34+H34+I34+J34","v":0},0,0,0,0,0]
[null,"МКУ СМИ (пустующее ЗАТО Александровск)",null,"Всего",{"$f":"E36+E37+E38+E39","v":212957703.34999999},45723607.810000002,43437427.420000002,41265556.039999999,41265556.039999999,41265556.039999999]
[null,null,null,"МБ",{"$f":"F36+G36+H36+I36+J36","v":212957703.34999999},45723607.810000002,43437427.420000002,41265556.039999999,41265556.039999999,41265556.039999999]
[null,null,null,"ОБ",{"$f":"F37+G37+H37+I37+J37","v":0},0,0,0,0,0]
[null,null,null,"ФБ",{"$f":"F38+G38+H38+I38+J38","v":0},0,0,0,0,0]
[null,null,null,"ВБС",{"$f":"F39+G39+H39+I39+J39","v":0},0,0,0,0,0]
["1.4.","Создание условий безопасной среды проживания в ЗАТО Александровск","2018-2022 годы","Всего",{"$f":"E41+E42+E43+E44","v":2950054.6000000006},2316647.04,164521.45000000001,156295.37,156295.37,156295.37,"Объем выполненных работ, %",100,100,100,100,100,"МКУ СМИ, МКУ ОКС"]
[null,null,null,"МБ",{"$f":"F41+G41+H41+I41+J41","v":2950054.6000000006},{"$f":"173180.47+1434416.74+709049.83","v":2316647.04},164521.45000000001,{"$f":"156295.37","v":156295.37},156295.37,156295.37,null,null,null,null,null,null,null,{"$f":"592511.81+2513493.86+2012855.35","v":5118861.0199999996}]
[null,null,null,"ОБ",{"$f":"F42+G42+H42+I42+J42","v":0},0,0,0,0,0]
[null,null,null,"ФБ",{"$f":"F43+G43+H43+I43+J43","v":0},0,0,0,0,0]
[null,null,null,"ВБС",{"$f":"F44+G44+H44+I44+J44","v":0},0,0,0,0,0]
["1.5.","Высвобождение малозаселенных домов","2018-2022 годы","не требует финансирования",null,null,null,null,null,null,"Высвобождение малозаселенных домов, ед.",0,1,0,1,0,"МКУ СМИ"]
[]
[]
[]
[]
[null,"Итого по задаче 1:",null,"Всего",{"$f":"E52+E53+E54+E55","v":235248927.38999999},52073340.469999999,46371401.260000005,43633238.199999996,46585473.729999997,46585473.729999997]
[null,null,null,"в том числе:"]
[null,null,null,"МБ",{"$f":"F52+G52+H52+I52+J52","v":235248927.38999999},{"$f":"F11+F16+F21+F41","v":52073340.469999999},{"$f":"G11+G16+G21+G41","v":46371401.260000005},{"$f":"H11+H16+H21+H41","v":43633238.199999996},{"$f":"I11+I16+I21+I41","v":46585473.729999997},{"$f":"J11+J16+J21+J41","v":46585473.729999997}]
[null,null,null,"ОБ",{"$f":"F53+G53+H53+I53+J53","v":0},{"$f":"F12+F17+F22","v":0},{"$f":"G12+G47+G17","v":0},0,0,0]
[null,null,null,"ФБ",{"$f":"F54+G54+H54+I54+J54","v":0},{"$f":"F13+F18+F23","v":0},0,0,0,0]
[null,null,null,"ВБС",{"$f":"F55+G55+H55+I55+J55","v":0},{"$f":"F14+F19+F24","v":0},0,0,0,0]
["2.","Задача 2: Содержание и развитие систем коммунальной инфраструктуры"]
["2.1.","Капитальный ремонт сетей водоснабжения и водоотведения","2018-2022 годы","Всего",{"$f":"E58+E59+E60+E61","v":2983615.0999999996},1019278.7999999999,510217.22,484706.36,484706.36,484706.36,"Протяженность отремонтированных сетей водоснабжения, м",179.88,164.88981076102775,164.88981076102775,164.88981076102775,164.88981076102775,"МКУ \"ОКС\"","512097,07 (ремонт безхозных колодцов и водоводов)"]
[null,null,null,"МБ",{"$f":"F58+G58+H58+I58+J58","v":2983615.0999999996},{"$f":"1544859.17-525580.37","v":1019278.7999999999},510217.22,484706.36,484706.36,484706.36]
[null,null,null,"ОБ",{"$f":"F59+G59+H59+I59+J59","v":0},0,0,0,0,0]
[null,null,null,"ФБ",{"$f":"F60+G60+H60+I60+J60","v":0},0,0,0,0,0]
[null,null,null,"ВБС",{"$f":"F61+G61+H61+I61+J61","v":0},0,0,0,0,0]
["2.2.","Капитальный ремонт сетей  электроснабжения","2018-2022 годы","Всего",{"$f":"E63+E64+E65+E66","v":0},0,0,0,0,0,"Протяженность отремонтированных сетей водоотведения, м",40.731254270713499,38.746183387681313,38.746183387681313,38.746183387681313,38.746183387681313,"МКУ \"ОКС\""]
[null,null,null,"МБ",{"$f":"F63+G63+H63+I63+J63","v":0},0,0,0,0,0]
[null,null,null,"ОБ",{"$f":"F64+G64+H64+I64+J64","v":0},0,0,0,0,0]
[null,null,null,"ФБ",{"$f":"F65+G65+H65+I65+J65","v":0},0,0,0,0,0]
[null,null,null,"ВБС",{"$f":"F66+G66+H66+I66+J66","v":0},0,0,0,0,0]
["2.2.","Капитальный ремонт сетей теплоснабжения","2018-2022 годы","Всего",{"$f":"E68+E69+E70+E71","v":3685986.1},0,957398.98,909529.04,909529.04,909529.04,"Протяженность отремонтированных сетей теплоснабжения, м",250,240,240,240,240,"МКУ \"ОКС\""]
[null,null,null,"МБ",{"$f":"F68+G68+H68+I68+J68","v":3685986.1},0,957398.98,909529.04,909529.04,909529.04]
[null,null,null,"ОБ",{"$f":"F69+G69+H69+I69+J69","v":0},0,0,0,0,0]
[null,null,null,"ФБ",{"$f":"F70+G70+H70+I70+J70","v":0},0,0,0,0,0]
[null,null,null,"ВБС",{"$f":"F71+G71+H71+I71+J71","v":0},0,0,0,0,0]
["2.4.","Выполненние работ по созданию проекта перехода на закрытую систему теплоснабжения ЗАТО Александровск","2018-2022 годы","Всего",{"$f":"E73+E74+E75+E76","v":3000000},3000000,0,0,0,0,"Объем выполненных работ, %",100,0,0,0,0,"МКУ \"ОКС\""]
[null,null,null,"МБ",{"$f":"F73+G73+H73+I73+J73","v":3000000},{"$f":"3000000","v":3000000},0,0,0,0]
[null,null,null,"ОБ",{"$f":"F74+G74+H74+I74+J74","v":0},0,0,0,0,0]
[null,null,null,"ФБ",{"$f":"F75+G75+H75+I75+J75","v":0},0,0,0,0,0]
[null,null,null,"ВБС",{"$f":"F76+G76+H76+I76+J76","v":0},0,0,0,0,0]
["2.5.","Корректировка (актуализация ) схемы теплоснабжения в границах муниципального образования ЗАТО Александровск","2018-2022 годы","Всего",{"$f":"E78+E79+E80+E81","v":399900},399900,0,0,0,0,"Объем выполненных работ, %",100,null,null,null,null,"МКУ \"ОКС\""]
[null,null,null,"МБ",{"$f":"F78+G78+H78+I78+J78","v":399900},399900,0,0,0,0]
[null,null,null,"ОБ",{"$f":"F79+G79+H79+I79+J79","v":0},0,0,0,0,0]
[null,null,null,"ФБ",{"$f":"F80+G80+H80+I80+J80","v":0},0,0,0,0,0]
[null,null,null,"ВБС",{"$f":"F81+G81+H81+I81+J81","v":0},0,0,0,0,0]
["2.6.","Реализация проекта по организации водозабора в системе г. Снежногорск","2018-2022 годы","Всего",{"$f":"E83+E84+E85+E86","v":0},0,0,0,0,0,"Объем выполненных работ, %",0,100,null,null,null,"МКУ \"ОКС\""]
[null,null,null,"МБ",{"$f":"F83+G83+H83+I83+J83","v":0},0,0,0,0,0]
[null,null,null,"ОБ",{"$f":"F84+G84+H84+I84+J84","v":0},0,0,0,0,0]
[null,null,null,"ФБ",{"$f":"F85+G85+H85+I85+J85","v":0},0,0,0,0,0]
[null,null,null,"ВБС",{"$f":"F86+G86+H86+I86+J86","v":0},0,0,0,0,0]
["2.7.","Выполнение работ по модернизации лифтов, отработавших назначенный срок службы","2018-2022 годы","Всего",{"$f":"E88+E89+E90+E91","v":0},0,0,0,0,0,"Количество модернизированных или отремонтированных лифтов, ед.",3,10,10,10,10,"МКУ \"ОКС\""]
[null,null,null,"МБ",{"$f":"F88+G88+H88+I88+J88","v":0},0,0,0,0,0]
[null,null,null,"ОБ",{"$f":"F89+G89+H89+I89+J89","v":0},0,0,0,0,0]
[null,null,null,"ФБ",{"$f":"F90+G90+H90+I90+J90","v":0},0,0,0,0,0]
[null,null,null,"ВБС",{"$f":"F91+G91+H91+I91+J91","v":0},0,0,0,0,0]
[null,"Итого по задаче 2:",null,"Всего",{"$f":"E94+E95+E96+E97","v":10069501.200000001},4419178.8,1467616.2,1394235.4,1394235.4,1394235.4]
[null,null,null,"в том числе:"]
[null,null,null,"МБ",{"$f":"F94+G94+H94+I94+J94","v":10069501.200000001},{"$f":"F58+F63++F68+F73+F78+F83+F88","v":4419178.8},{"$f":"G58+G63++G68+G73+G78+G83+G88","v":1467616.2},{"$f":"H58+H63++H68+H73+H78+H83+H88","v":1394235.4},{"$f":"I58+I63++I68+I73+I78+I83+I88","v":1394235.4},{"$f":"J58+J63++J68+J73+J78+J83+J88","v":1394235.4}]
[null,null,null,"ОБ",{"$f":"F95+G95+H95+I95+J95","v":0},{"$f":"F59+F64++F69+F74+F79+F84+F89","v":0},0,0,0,0]
[null,null,null,"ФБ",{"$f":"F96+G96+H96+I96+J96","v":0},0,0,0,0,0]
[null,null,null,"ВБС",{"$f":"F97+G97+H97+I97+J97","v":0},0,0,0,0,0]
[null,"ВСЕГО по Подпрограмме 2:",null,"Всего",{"$f":"E100+E101+E102+E103","v":245318428.58999997},56492519.269999996,47839017.460000008,45027473.599999994,47979709.129999995,47979709.129999995]
[null,null,null,"в том числе:"]
[null,null,null,"МБ",{"$f":"F100+G100+H100+I100+J100","v":245318428.58999997},{"$f":"F94+F52","v":56492519.269999996},{"$f":"G94+G52","v":47839017.460000008},45027473.599999994,47979709.129999995,47979709.129999995]
[null,null,null,"ОБ",{"$f":"F101+G101+H101+I101+J101","v":0},0,0,0,0,0]
[null,null,null,"ФБ",{"$f":"F102+G102+H102+I102+J102","v":0},0,0,0,0,0]
[null,null,null,"ВБС",{"$f":"F103+G103+H103+I103+J103","v":0},0,0,0,0,0]
[]
[]
[null,null,null,null,null,{"$f":"7452788.69+48536862.6","v":55989651.289999999}]
[null,null,null,null,null,{"$f":"F98-F106","v":502867.97999999672}]

{"sheet":"Таблица 1 (3)","index":6,"n_rows":21,"n_cols":16,"rows_kept":21,"cut":false,"hidden":true,"merged":[[17,1,17,15],[10,1,10,15],[11,1,11,15],[15,1,15,15],[6,4,6,14],[7,5,7,6],[7,7,7,8],[7,9,7,10],[7,11,7,12],[7,13,7,14],[0,8,0,15],[13,1,13,15],[3,0,3,17],[5,0,8,0],[5,1,8,1],[5,2,8,2],[1,14,1,15],[5,3,8,3],[5,4,5,14],[5,15,8,15]]}
[null,null,null,null,null,null,null,null,"Приложение №7  к постановлению администрации  ЗАТО Александровск    от______№________"]
[null,null,null,null,null,null,null,null,null,null,null,null,null,null,"Таблица № 1 (3)"]
[]
["2. Основные цели и задачи Подпрограммы 3, целевые показатели (индикаторы) реализации Подпрограммы 3"]
[]
["№ п/п","Цель, задачи и показатели (индикаторы)","Ед. изм.","Направленность*","Значение показателя (индикатора)",null,null,null,null,null,null,null,null,null,null,"Соисполнитель, ответственный за выполнение показателя"]
[null,null,null,null,"Годы реализации"]
[null,null,null,null,2017,2018,null,2019,null,2020,null,2021,null,2022]
[null,null,null,null,"Факт","План ","Факт","План ","Факт","План ","Факт","План ","Факт","План ","Факт"]
[1,2,3,4,5,6,7,8,9,10,11,12,13,14,15,16]
[null,"Цель Подпрограммы 3: Совершенствование системы организации погребения и оказания услуг по погребению"]
[1,"Задача 1:  Рациональное использование земель действующего кладбища на основе данных инвентаризации захоронений, строительство  общественного кладбища на территории муниципального образования ЗАТО Александровск"]
["1.1.","1. Услуга предоставляемая по гарантированному перечню*","количество обращений","ö",98,98,null,98,null,98,null,98,null,98,null,"МКУ \"ОКС\""]
[2,"Задача 2:  Выполнение комплекса работ по благоустройству и надлежащему содержанию общественных кладбищ"]
["2.1.","Доля исполненных мероприятий в области благоустройства и исполнения работ по содержанию на основе конкурсного отбора подрядчиков","%","ö",100,100,null,100,null,100,null,100,null,100,null,"МКУ \"ОКС\""]
["3.","Задача 3: Реконструкция  объектов муниципальной собственности (кладбище с.Белокаменка)"]
["3.1.","Исполнение работ по реконструкции","да - 1/ нет- 0","ö",0,1,null,1,null,0,null,0,null,0,null,"МКУ \"ОКС\""]
[4,"Задача 4:  Строительство объекта похоронного назначения (кладбища)."]
["4.1.","Доля исполнения строительных работ","%",null,0,0,null,0,null,100,null,0,null,0,null,"МКУ \"ОКС\""]
[]
["* Информация для анализа  масштабности проблемы"]

{"sheet":"Таблица 2 (3)","index":7,"n_rows":22,"n_cols":7,"rows_kept":22,"cut":false,"hidden":false,"merged":[[0,3,0,6],[14,0,14,6],[16,0,16,6],[3,0,3,8],[5,0,6,0],[5,1,6,1],[5,2,5,6],[9,0,9,6]]}
[null,null,null,"Приложение №3  к постановлению администрации  ЗАТО Александровск    от «21» июня 2018г. № 1126"]
[null,null,null,null,null,null,"Таблица № 2 (3)"]
[]
["4. Обоснование ресурсного обеспечения Подпрограммы 3 "]
[]
["Источник финансирования","Всего, руб.коп.","в том числе по годам реализации, руб.коп."]
[null,null,"2018 год","2019 год","2020 год","2021 год","2022 год"]
[1,2,3,4,5,6,7]
["Всего по Подпрограмме 3",{"$f":"B11+B12+B13+B14","v":5291805.4000000004},3458361.08,458361.08,458361.08,458361.08,458361.08]
["в том числе за счет средств:"]
["местного бюджета",{"$f":"C11+D11+E11+F11+G11","v":5291805.4000000004},{"$f":"'Таблица 3 (3)'!F64","v":3458361.08},{"$f":"'Таблица 3 (3)'!G64","v":458361.08},{"$f":"'Таблица 3 (3)'!H64","v":458361.08},{"$f":"'Таблица 3 (3)'!I64","v":458361.08},{"$f":"'Таблица 3 (3)'!J64","v":458361.08}]
["средств областного бюджета",{"$f":"C12+D12+E12+F12+G12","v":0},0,0,0,0,0]
["средств федерального бюджета",{"$f":"C13+D13+E13+F13+G13","v":0},{"$f":"C20","v":0},0,0,0,0]
["внебюджетных средств",{"$f":"C14+D14+E14+F14+G14","v":0},0,0,0,0,0]
["в том числе по Заказчикам:"]
[" администрация ЗАТО Александровск",{"$f":"B18+B19+B20+B21","v":5291805.4000000004},3458361.08,458361.08,458361.08,458361.08,458361.08]
["в том числе за счет средств:"]
["местного бюджета",{"$f":"C18+D18+E18+F18+G18","v":5291805.4000000004},{"$f":"'Таблица 3 (3)'!F64","v":3458361.08},{"$f":"'Таблица 3 (3)'!G64","v":458361.08},{"$f":"'Таблица 3 (3)'!H64","v":458361.08},{"$f":"'Таблица 3 (3)'!I64","v":458361.08},{"$f":"'Таблица 3 (3)'!J64","v":458361.08}]
["средств областного бюджета",{"$f":"C19+D19+E19+F19+G19","v":0},0,0,0,0,0]
["средств федерального бюджета",{"$f":"C20+D20+E20+F20+G20","v":0},{"$f":"'Таблица 3 (1)'!F42","v":0},{"$f":"'Таблица 3 (1)'!G42","v":0},{"$f":"'Таблица 3 (1)'!H42","v":0},{"$f":"'Таблица 3 (1)'!I42","v":0},{"$f":"'Таблица 3 (1)'!J42","v":0}]
["внебюджетных средств",{"$f":"C21+D21+E21+F21+G21","v":0},{"$f":"'Таблица 3 (1)'!F43","v":0},{"$f":"'Таблица 3 (1)'!G43","v":0},{"$f":"'Таблица 3 (1)'!H43","v":0},{"$f":"'Таблица 3 (1)'!I43","v":0},{"$f":"'Таблица 3 (1)'!J43","v":0}]
["в том числе инвестиции в основной капитал",{"$f":"C22+D22+E22+F22+G22","v":3000000},{"$f":"3000000","v":3000000},0,0,0,0]

{"sheet":"Таблица 3 (3)","index":8,"n_rows":67,"n_cols":17,"rows_kept":67,"cut":false,"hidden":false,"merged":[[1,12,1,16],[61,11,66,11],[61,12,66,12],[61,13,66,13],[26,12,30,12],[26,13,30,13],[26,14,30,14],[26,15,30,15],[26,16,30,16],[2,14,2,16],[61,16,66,16],[61,15,66,15],[43,15,48,15],[38,11,39,11],[38,12,39,12],[38,13,39,13],[55,16,60,16],[38,14,39,14],[38,15,39,15],[38,16,39,16],[40,16,42,16],[40,11,42,11],[40,12,42,12],[40,13,42,13],[38,0,42,0],[38,1,42,1],[38,2,42,2],[61,14,66,14],[31,14,36,14],[43,13,48,13],[43,14,48,14],[61,0,66,0],[61,1,66,1],[61,2,66,2],[61,10,66,10],[62,3,62,9],[43,0,48,0],[50,0,54,0],[50,1,54,1],[50,2,54,2],[43,12,48,12],[49,1,49,16],[31,15,36,15],[43,16,48,16],[43,1,48,1],[43,2,48,2],[43,10,48,10],[43,11,48,11],[38,17,42,17],[31,16,36,16],[38,10,39,10],[7,1,7,16],[25,1,25,16],[9,17,13,17],[8,1,8,16],[9,12,13,12],[32,3,32,9],[31,11,36,11],[9,16,13,16],[19,2,24,2],[31,2,36,2],[20,3,20,9],[40,10,42,10],[40,14,42,14],[40,15,42,15],[9,0,13,0],[19,14,24,14],[9,14,13,14],[9,11,13,11],[26,17,30,17],[3,0,3,16],[4,0,5,0],[4,1,5,1],[4,2,5,2],[4,3,5,3],[4,4,4,9],[4,10,4,15],[4,16,5,16],[9,13,13,13],[9,1,13,1],[9,15,13,15],[9,2,13,2],[9,10,13,10],[14,0,18,0],[14,3,18,9],[14,1,18,1],[14,2,18,2],[19,0,24,0],[19,1,24,1],[31,0,36,0],[31,1,36,1],[26,0,30,0],[26,1,30,1],[26,2,30,2],[14,17,18,17],[37,1,37,16],[19,15,24,15],[19,16,24,16],[19,11,24,11],[19,12,24,12],[19,13,24,13],[26,10,30,10],[26,11,30,11],[31,12,36,12],[14,16,18,16],[14,10,18,10],[14,11,18,11],[14,12,18,12],[14,13,18,13],[19,10,24,10],[31,10,36,10],[31,13,36,13],[14,14,18,14],[14,15,18,15],[50,17,54,17],[55,13,60,13],[55,14,60,14],[55,15,60,15],[50,13,54,13],[50,16,54,16],[55,12,60,12],[44,3,44,9],[50,14,54,14],[50,15,54,15],[55,0,60,0],[55,1,60,1],[55,2,60,2],[55,10,60,10],[55,11,60,11],[56,3,56,9],[50,10,54,10],[50,11,54,11],[50,12,54,12]]}
[]
[null,null,null,null,null,null,null,null,null,null,null,null,"Приложение №4  к постановлению администрации  ЗАТО Александровск    от «21» июня 2018г. № 1126"]
[null,null,null,null,null,null,null,null,null,null,null,null,null,null,"Таблица № 3 (3)"]
["3. Перечень основных мероприятий Подпрограммы  3 "]
["№  п/п","Цель, задачи, основные мероприятия","Срок выполнения (квартал, год)","Источник финансирования","Объемы финансирования, руб.коп.",null,null,null,null,null,"Показатели результативности выполнения программных мероприятий",null,null,null,null,null,"Исполнитель, перечень организаций, участвующих в реализации основных мероприятий"]
[null,null,null,null,"Всего","2018 год","2019 год","2020 год","2021 год","2022 год","Наименование, ед.измерения","2018 год","2019 год","2020 год","2021 год","2022 год"]
[1,2,3,4,5,6,7,8,9,10,11,12,13,14,15,16,17]
[null,"Цель Подпрограммы 3:Совершенствование системы организации погребения и оказания услуг по погребению"]
["1.","Задача 1:  Рациональное использование земель действующего кладбища на основе данных инвентаризации захоронений, строительство  общественного кладбища на территории муниципального образования ЗАТО Александровск"]
["1.1.","Строительство  общественного кладбища на территории муниципального образования ЗАТО Александровск",2018,"Всего",{"$f":"E11+E12+E13+E14","v":0},0,0,0,0,0]
[null,null,null,"МБ",{"$f":"F11+G11+H11+I11+J11","v":0},{"$f":"3000000-3000000","v":0},0,0,0,0]
[null,null,null,"ОБ",{"$f":"F12+G12+H12+I12+J12","v":0},0,0,0,0,0]
[null,null,null,"ФБ",{"$f":"F13+G13+H13+I13+J13","v":0},0,0,0,0,0]
[null,null,null,"ВБС",{"$f":"F14+G14+H14+I14+J14","v":0},0,0,0,0,0]
["1.2.","Проведение инвентаризации захоронений",2018,"не требует финансирования"]
[]
[]
[]
[]
[null,"Итого по задаче 1:",null,"Всего",{"$f":"E22+E23+E24+E25","v":0},0,0,0,0,0]
[null,null,null,"в том числе:"]
[null,null,null,"МБ",{"$f":"F22+G22+H22+I22+J22","v":0},{"$f":"F11","v":0},{"$f":"G11","v":0},{"$f":"H11","v":0},{"$f":"I11","v":0},{"$f":"J11","v":0}]
[null,null,null,"ОБ",0,0,0,0,0,0]
[null,null,null,"ФБ",{"$f":"F24+G24+H24+I24+J24","v":0},{"$f":"F8+F13","v":0},0,0,0,0]
[null,null,null,"ВБС",{"$f":"F25+G25+H25+I25+J25","v":0},0,0,0,0,0]
["2.","Задача 2: Выполнение комплекса работ по благоустройству и надлежащему содержанию общественных кладбищ"]
["2.1.","Организация ритуальных услуг и содержание мест захоронения","2018-2022 годы","Всего",{"$f":"E28+E29+E30+E31","v":2291805.4},458361.08,458361.08,458361.08,458361.08,458361.08,"Объем выполненных работ, %",100,100,100,100,100,"МКУ \"ОКС\""]
[null,null,null,"МБ",{"$f":"F28+G28+H28+I28+J28","v":2291805.4},{"$f":"458361.08","v":458361.08},458361.08,458361.08,458361.08,458361.08]
[null,null,null,"ОБ",{"$f":"F29+G29+H29+I29+J29","v":0},0,0,0,0,0]
[null,null,null,"ФБ",{"$f":"F30+G30+H30+I30+J30","v":0},0,0,0,0,0]
[null,null,null,"ВБС",{"$f":"F31+G31+H31+I31+J31","v":0},0,0,0,0,0]
[null,"Итого по задаче 2:",null,"Всего",{"$f":"E34+E35+E36+E37","v":2291805.4},458361.08,458361.08,458361.08,458361.08,458361.08]
[null,null,null,"в том числе:"]
[null,null,null,"МБ",{"$f":"F34+G34+H34+I34+J34","v":2291805.4},{"$f":"F28","v":458361.08},{"$f":"G28","v":458361.08},{"$f":"H28","v":458361.08},{"$f":"I28","v":458361.08},{"$f":"J28","v":458361.08}]
[null,null,null,"ОБ",{"$f":"F35+G35+H35+I35+J35","v":0},{"$f":"F29","v":0},0,0,0,0]
[null,null,null,"ФБ",{"$f":"F36+G36+H36+I36+J36","v":0},0,0,0,0,0]
[null,null,null,"ВБС",{"$f":"F37+G37+H37+I37+J37","v":0},0,0,0,0,0]
[3,"Задача 3: 3. Реконструкция  объектов муниципальной собственности (кладбище с.Белокаменка)"]
["3.1.","Реконструкция действующего кладбища (отсыпка территории)","2018-2019","Всего",{"$f":"E40+E41+E42+E43","v":3000000},3000000,0,0,0,0,"Количество проектов, ед.",1,0,0,0,0,"МКУ \"ОКС\""]
[null,null,null,"МБ",{"$f":"F40+G40+H40+I40+J40","v":3000000},3000000,0,0,0,0]
[null,null,null,"ОБ",{"$f":"F41+G41+H41+I41+J41","v":0},0,0,0,0,0,"Объем выполненных работ, м2",1000,null,null,null,null,"МКУ \"ОКС\""]
[null,null,null,"ФБ",{"$f":"F42+G42+H42+I42+J42","v":0},0,0,0,0,0]
[null,null,null,"ВБС",{"$f":"F43+G43+H43+I43+J43","v":0},0,0,0,0,0]
[null,"Итого по задаче 3:",null,"Всего",{"$f":"E46+E47+E48+E49","v":3000000},3000000,0,0,0,0]
[null,null,null,"в том числе:"]
[null,null,null,"МБ",{"$f":"F46+G46+H46+I46+J46","v":3000000},{"$f":"F40","v":3000000},0,0,0,0]
[null,null,null,"ОБ",{"$f":"F47+G47+H47+I47+J47","v":0},0,0,0,0,0]
[null,null,null,"ФБ",{"$f":"F48+G48+H48+I48+J48","v":0},0,0,0,0,0]
[null,null,null,"ВБС",{"$f":"F49+G49+H49+I49+J49","v":0},0,0,0,0,0]
[4,"Задача 4:  Строительство объекта похоронного назначения (кладбища)."]
["4.1.","Выполнение работ по строительству нового муниципального кладбища ",2019,"Всего",{"$f":"E52+E53+E54+E55","v":0},0,0,0,0,0,"Объем ыполненных работ",0,1,0,0,0,"МКУ \"ОКС\""]
[null,null,null,"МБ",{"$f":"F52+G52+H52+I52+J52","v":0},0,0,0,0,0]
[null,null,null,"ОБ",{"$f":"F53+G53+H53+I53+J53","v":0},0,0,0,0,0]
[null,null,null,"ФБ",{"$f":"F54+G54+H54+I54+J54","v":0},0,0,0,0,0]
[null,null,null,"ВБС",{"$f":"F55+G55+H55+I55+J55","v":0},0,0,0,0,0]
[null,"Итого по задаче 4:",null,"Всего",{"$f":"E58+E59+E60+E61","v":0},0,0,0,0,0]
[null,null,null,"в том числе:"]
[null,null,null,"МБ",{"$f":"F58+G58+H58+I58+J58","v":0},{"$f":"F52","v":0},0,0,0,0]
[null,null,null,"ОБ",{"$f":"F59+G59+H59+I59+J59","v":0},0,0,0,0,0]
[null,null,null,"ФБ",{"$f":"F60+G60+H60+I60+J60","v":0},0,0,0,0,0]
[null,null,null,"ВБС",{"$f":"F61+G61+H61+I61+J61","v":0},0,0,0,0,0]
[null,"ВСЕГО по Подпрограмме 3:",null,"Всего",{"$f":"E64+E65+E66+E67","v":5291805.4000000004},3458361.08,458361.08,458361.08,458361.08,458361.08]
[null,null,null,"в том числе:"]
[null,null,null,"МБ",{"$f":"F64+G64+H64+I64+J64","v":5291805.4000000004},{"$f":"F34+F22+F46+F58","v":3458361.08},{"$f":"G34+G22+G46+G58","v":458361.08},{"$f":"H34+H22+H46+H58","v":458361.08},{"$f":"I34+I22+I46+I58","v":458361.08},{"$f":"J34+J22+J46+J58","v":458361.08}]
[null,null,null,"ОБ",{"$f":"F65+G65+H65+I65+J65","v":0},0,0,0,0,0]
[null,null,null,"ФБ",{"$f":"F66+G66+H66+I66+J66","v":0},{"$f":"F36+F24","v":0},0,0,0,0]
[null,null,null,"ВБС",{"$f":"F67+G67+H67+I67+J67","v":0},0,0,0,0,0]

{"sheet":"СВОД","index":9,"n_rows":29,"n_cols":7,"rows_kept":29,"cut":false,"hidden":true,"merged":[[12,0,12,6],[14,0,14,6],[21,0,21,6],[1,0,1,6],[3,0,4,0],[3,1,4,1],[3,2,3,6],[7,0,7,6]]}
[]
[" Обоснование ресурсного обеспечения Программы"]
[]
["Источник финансирования","Всего, руб.коп.","в том числе по годам реализации, руб.коп."]
[null,null,"2018 год","2019 год","2020 год","2021 год","2022 год"]
[1,2,3,4,5,6,7]
["Всего по Подпрограммам 1-3",{"$f":"B9+B10+B11+B12","v":399370653.87},101160323.25999999,85348888.88000001,81435737.289999992,65712852.219999999,65712852.219999999]
["в том числе за счет средств:"]
["местного бюджета",{"$f":"SUM(C9:G9)","v":342767711.01999998},{"$f":"C16+C23","v":81907621.609999999},{"$f":"D16+D23","v":66673768.280000009},{"$f":"E16+E23","v":62760616.689999998},{"$f":"F16+F23","v":65712852.219999999},{"$f":"G16+G23","v":65712852.219999999}]
["областного бюджета",{"$f":"SUM(C10:G10)","v":56602942.850000001},{"$f":"C17+C24","v":19252701.649999999},18675120.600000001,18675120.600000001,{"$f":"F17+F24","v":0},0]
["федерального бюджета",{"$f":"SUM(C11:G11)","v":0},0,0,0,0,0]
["внебюджетных средств",{"$f":"SUM(C12:G12)","v":0},0,0,0,0,0]
["в том числе по Заказчикам:"]
[" администрация ЗАТО Александровск",{"$f":"B16+B17+B18+B19","v":399370653.87},101160323.25999999,85348888.88000001,81435737.289999992,65712852.219999999,65712852.219999999]
["в том числе за счет средств:"]
["местного бюджета",{"$f":"SUM(C16:G16)","v":342767711.01999998},{"$f":"'Таблица 2 (1)'!C18+'Таблица 2 (2)'!C18+'Таблица 2 (3)'!C18","v":81907621.609999999},{"$f":"'Таблица 2 (1)'!D18+'Таблица 2 (2)'!D18+'Таблица 2 (3)'!D18","v":66673768.280000009},{"$f":"'Таблица 2 (1)'!E18+'Таблица 2 (2)'!E18+'Таблица 2 (3)'!E18","v":62760616.689999998},{"$f":"'Таблица 2 (1)'!F18+'Таблица 2 (2)'!F18+'Таблица 2 (3)'!F18","v":65712852.219999999},{"$f":"'Таблица 2 (1)'!G18+'Таблица 2 (2)'!G18+'Таблица 2 (3)'!G18","v":65712852.219999999}]
["областного бюджета",{"$f":"SUM(C17:G17)","v":56602942.850000001},{"$f":"'Таблица 2 (1)'!C19+'Таблица 2 (2)'!C19+'Таблица 2 (3)'!C19","v":19252701.649999999},{"$f":"'Таблица 2 (1)'!D19+'Таблица 2 (2)'!D19+'Таблица 2 (3)'!D19","v":18675120.600000001},{"$f":"'Таблица 2 (1)'!E19+'Таблица 2 (2)'!E19+'Таблица 2 (3)'!E19","v":18675120.600000001},{"$f":"'Таблица 2 (1)'!F19+'Таблица 2 (2)'!F19+'Таблица 2 (3)'!F19","v":0},{"$f":"'Таблица 2 (1)'!G19+'Таблица 2 (2)'!G19+'Таблица 2 (3)'!G19","v":0}]
["федерального бюджета",{"$f":"SUM(C18:G18)","v":0},{"$f":"'Таблица 2 (1)'!C20+'Таблица 2 (2)'!C20+'Таблица 2 (3)'!C20","v":0},{"$f":"'Таблица 2 (2)'!D20","v":0},{"$f":"'Таблица 2 (2)'!E20","v":0},{"$f":"'Таблица 2 (2)'!F20","v":0},{"$f":"'Таблица 2 (2)'!G20","v":0}]
["внебюджетных средств",{"$f":"SUM(C19:G19)","v":0},{"$f":"'Таблица 2 (1)'!C21+'Таблица 2 (2)'!C21+'Таблица 2 (3)'!C21","v":0},{"$f":"'Таблица 2 (1)'!C14","v":0},{"$f":"'Таблица 2 (1)'!D14","v":0},{"$f":"'Таблица 2 (1)'!E14","v":0},{"$f":"'Таблица 2 (1)'!F14","v":0}]
["в том числе инвестиции в основной капитал",{"$f":"SUM(C20:G20)","v":6000000},{"$f":"'Таблица 2 (1)'!C22+'Таблица 2 (2)'!C22+'Таблица 2 (3)'!C22","v":6000000},0,0,0,0]
["Администрация ЗАТО Александровск",{"$f":"B23+B24+B25+B26","v":0},0,0,0,0,0]
["в том числе за счет средств:"]
["местного бюджета",{"$f":"SUM(C23:G23)","v":0}]
["областного бюджета",{"$f":"SUM(C24:G24)","v":0}]
["федерального бюджета",{"$f":"SUM(C25:G25)","v":0}]
["внебюджетных средств",{"$f":"SUM(C26:G26)","v":0}]
["в том числе инвестиции в основной капитал",{"$f":"SUM(C27:G27)","v":0}]
[]
[null,{"$f":"C29+D29+E29+F29+G29","v":342767711.01999998},{"$f":"'Таблица 3 (1)'!F40+'Таблица 3 (2)'!F100+'Таблица 3 (3)'!F64","v":81907621.609999999},{"$f":"'Таблица 3 (1)'!G40+'Таблица 3 (2)'!G100+'Таблица 3 (3)'!G64","v":66673768.280000009},{"$f":"'Таблица 3 (1)'!H40+'Таблица 3 (2)'!H100+'Таблица 3 (3)'!H64","v":62760616.689999998},{"$f":"'Таблица 3 (1)'!I40+'Таблица 3 (2)'!I100+'Таблица 3 (3)'!I64","v":65712852.219999999},{"$f":"'Таблица 3 (1)'!J40+'Таблица 3 (2)'!J100+'Таблица 3 (3)'!J64","v":65712852.219999999}]